BEGIN:VCALENDAR
VERSION:2.0
PRODID:-//KARS - ECPv6.5.1.5//NONSGML v1.0//EN
CALSCALE:GREGORIAN
METHOD:PUBLISH
X-WR-CALNAME:KARS
X-ORIGINAL-URL:https://kars.or.id
X-WR-CALDESC:Events for KARS
REFRESH-INTERVAL;VALUE=DURATION:PT1H
X-Robots-Tag:noindex
X-PUBLISHED-TTL:PT1H
BEGIN:VTIMEZONE
TZID:Asia/Krasnoyarsk
BEGIN:STANDARD
TZOFFSETFROM:+0700
TZOFFSETTO:+0700
TZNAME:+07
DTSTART:20210101T000000
END:STANDARD
END:VTIMEZONE
BEGIN:VEVENT
DTSTART;TZID=Asia/Krasnoyarsk:20210209T130000
DTEND;TZID=Asia/Krasnoyarsk:20210210T170000
DTSTAMP:20260424T203643
CREATED:20210125T011543Z
LAST-MODIFIED:20210125T013731Z
UID:2300-1612875600-1612976400@kars.or.id
SUMMARY:Kelas Online Komunikasi Efektif
DESCRIPTION:Unduh Flyer\, Surat Undangan dan Jadwal Acara \n  \nUnduh Tatacara Pendaftaran \n  \nDaftar Sekarang
URL:https://kars.or.id/event/kelas-online-komunikasi-efektif/
CATEGORIES:training,workshop
ATTACH;FMTTYPE=image/png:https://kars.or.id/wp-content/uploads/2021/01/flyer-komunikasi-efektif-feb-2021-1.png
END:VEVENT
BEGIN:VEVENT
DTSTART;TZID=Asia/Krasnoyarsk:20210222T080000
DTEND;TZID=Asia/Krasnoyarsk:20210222T170000
DTSTAMP:20260424T203643
CREATED:20210125T013407Z
LAST-MODIFIED:20210125T013407Z
UID:2312-1613980800-1614013200@kars.or.id
SUMMARY:Workshop Virtual Event : PMKP
DESCRIPTION:Unduh Flyer
URL:https://kars.or.id/event/workshop-virtual-event-pmkp/
LOCATION:Via ZOOM
CATEGORIES:training,workshop
ATTACH;FMTTYPE=image/jpeg:https://kars.or.id/wp-content/uploads/2021/01/persi-sumut-pmkp-0221.jpeg
END:VEVENT
BEGIN:VEVENT
DTSTART;TZID=Asia/Krasnoyarsk:20210223T130000
DTEND;TZID=Asia/Krasnoyarsk:20210224T170000
DTSTAMP:20260424T203643
CREATED:20210217T130904Z
LAST-MODIFIED:20210217T130904Z
UID:2343-1614085200-1614186000@kars.or.id
SUMMARY:Kelas Online Hospital Safety Index
DESCRIPTION:Unduh Flyer\, Undangan dan Jadwal Acara \nUnduh Tatacara Pendaftaran \nDaftar Sekarang
URL:https://kars.or.id/event/kelas-online-hospital-safety-index/
CATEGORIES:training,workshop
ATTACH;FMTTYPE=image/png:https://kars.or.id/wp-content/uploads/2021/02/Flyer-HSI-1.png
END:VEVENT
END:VCALENDAR