BEGIN:VCALENDAR
VERSION:2.0
PRODID:-//KARS - ECPv6.5.1.5//NONSGML v1.0//EN
CALSCALE:GREGORIAN
METHOD:PUBLISH
X-WR-CALNAME:KARS
X-ORIGINAL-URL:https://kars.or.id
X-WR-CALDESC:Events for KARS
REFRESH-INTERVAL;VALUE=DURATION:PT1H
X-Robots-Tag:noindex
X-PUBLISHED-TTL:PT1H
BEGIN:VTIMEZONE
TZID:Asia/Krasnoyarsk
BEGIN:STANDARD
TZOFFSETFROM:+0700
TZOFFSETTO:+0700
TZNAME:+07
DTSTART:20210101T000000
END:STANDARD
END:VTIMEZONE
BEGIN:VEVENT
DTSTART;TZID=Asia/Krasnoyarsk:20211130T080000
DTEND;TZID=Asia/Krasnoyarsk:20211201T160000
DTSTAMP:20260420T083822
CREATED:20211122T035305Z
LAST-MODIFIED:20211122T035305Z
UID:2762-1638259200-1638374400@kars.or.id
SUMMARY:Kelas Online Tata Kelola Rumah Sakit (TKRS)
DESCRIPTION:Informasi selengkapnya\nUnduh Edaran\, FLyer dan Jadwal Acara\nDaftar Kelas Online\nTatacara Pendaftaran
URL:https://kars.or.id/event/kelas-online-tata-kelola-rumah-sakit-tkrs/
CATEGORIES:training,workshop
ATTACH;FMTTYPE=image/png:https://kars.or.id/wp-content/uploads/2021/11/Flyer-KOL-TKRS-1212-1.png
END:VEVENT
BEGIN:VEVENT
DTSTART;TZID=Asia/Krasnoyarsk:20211207T080000
DTEND;TZID=Asia/Krasnoyarsk:20211208T160000
DTSTAMP:20260420T083822
CREATED:20211123T061003Z
LAST-MODIFIED:20211123T061003Z
UID:2770-1638864000-1638979200@kars.or.id
SUMMARY:Kelas Online Pengelolaan Asuhan Keperawatan Dalam Standar Akreditasi Rumah Sakit
DESCRIPTION:Informasi selengkapnya\nUnduh Edaran\, FLyer dan Jadwal Acara\nDaftar Kelas Online\nTatacara Pendaftaran
URL:https://kars.or.id/event/kelas-online-pengelolaan-asuhan-keperawatan-dalam-standar-akreditasi-rumah-sakit/
CATEGORIES:training,workshop
ATTACH;FMTTYPE=image/png:https://kars.or.id/wp-content/uploads/2021/11/Flyer-KOL-ASKEP-1212-1.png
END:VEVENT
BEGIN:VEVENT
DTSTART;TZID=Asia/Krasnoyarsk:20211214T080000
DTEND;TZID=Asia/Krasnoyarsk:20211215T160000
DTSTAMP:20260420T083822
CREATED:20211122T035442Z
LAST-MODIFIED:20211122T035442Z
UID:2765-1639468800-1639584000@kars.or.id
SUMMARY:Kelas Online Keselamatan Pasien Dalam Proses Klinis Sesuai Standar Akreditasi RS
DESCRIPTION:Informasi selengkapnya\nUnduh Edaran\, FLyer dan Jadwal Acara\nDaftar Kelas Online\nTatacara Pendaftaran
URL:https://kars.or.id/event/kelas-online-keselamatan-pasien-dalam-proses-klinis-sesuai-standar-akreditasi-rs/
LOCATION:Via ZOOM
CATEGORIES:training,workshop
ATTACH;FMTTYPE=image/png:https://kars.or.id/wp-content/uploads/2021/11/Flyer-KOL-Keselamatan-pasien-1212-1.png
END:VEVENT
END:VCALENDAR