BEGIN:VCALENDAR
VERSION:2.0
PRODID:-//KARS - ECPv6.5.1.5//NONSGML v1.0//EN
CALSCALE:GREGORIAN
METHOD:PUBLISH
X-ORIGINAL-URL:https://kars.or.id
X-WR-CALDESC:Events for KARS
REFRESH-INTERVAL;VALUE=DURATION:PT1H
X-Robots-Tag:noindex
X-PUBLISHED-TTL:PT1H
BEGIN:VTIMEZONE
TZID:Asia/Krasnoyarsk
BEGIN:STANDARD
TZOFFSETFROM:+0700
TZOFFSETTO:+0700
TZNAME:+07
DTSTART:20220101T000000
END:STANDARD
END:VTIMEZONE
BEGIN:VEVENT
DTSTART;TZID=Asia/Krasnoyarsk:20220815T080000
DTEND;TZID=Asia/Krasnoyarsk:20220816T170000
DTSTAMP:20260419T201536
CREATED:20220801T031712Z
LAST-MODIFIED:20220801T031712Z
UID:3129-1660550400-1660669200@kars.or.id
SUMMARY:Kelas Online MFK Sesuai STARKES
DESCRIPTION:Kelas Online Strategi Dan Implementasi Standar Manajemen Fasilitas Dan Keselamatan (MFK) Sesuai Standar Akreditasi Rumah Sakit Kementerian Kesehatan R.I Tahun 2022\nInformasi selengkapnya\nUnduh Edaran\, FLyer dan Jadwal Acara\nDaftar Kelas Online\nTatacara Pendaftaran
URL:https://kars.or.id/event/kelas-online-mfk-sesuai-starkes/
CATEGORIES:training,workshop
ATTACH;FMTTYPE=image/png:https://kars.or.id/wp-content/uploads/2022/08/Flyer-MFK-1.png
END:VEVENT
END:VCALENDAR