BEGIN:VCALENDAR
VERSION:2.0
PRODID:-//KARS - ECPv6.5.1.5//NONSGML v1.0//EN
CALSCALE:GREGORIAN
METHOD:PUBLISH
X-WR-CALNAME:KARS
X-ORIGINAL-URL:https://kars.or.id
X-WR-CALDESC:Events for KARS
REFRESH-INTERVAL;VALUE=DURATION:PT1H
X-Robots-Tag:noindex
X-PUBLISHED-TTL:PT1H
BEGIN:VTIMEZONE
TZID:Asia/Krasnoyarsk
BEGIN:STANDARD
TZOFFSETFROM:+0700
TZOFFSETTO:+0700
TZNAME:+07
DTSTART:20210101T000000
END:STANDARD
END:VTIMEZONE
BEGIN:VEVENT
DTSTART;TZID=Asia/Krasnoyarsk:20210309T130000
DTEND;TZID=Asia/Krasnoyarsk:20210310T170000
DTSTAMP:20260424T204225
CREATED:20210219T062359Z
LAST-MODIFIED:20210302T080113Z
UID:2351-1615294800-1615395600@kars.or.id
SUMMARY:Kelas Online Manajemen Obat
DESCRIPTION:Unduh Flyer\, Surat Undangan dan Jadwal Acara \nUnduh Tatacara Pendaftaran \nKlik untuk Daftar Sekarang
URL:https://kars.or.id/event/kelas-online-manajemen-obat/
CATEGORIES:training,workshop
ATTACH;FMTTYPE=image/png:https://kars.or.id/wp-content/uploads/2021/02/Flyer-PKPO-0321-Hal-1.png
END:VEVENT
END:VCALENDAR