BEGIN:VCALENDAR
VERSION:2.0
PRODID:-//KARS - ECPv6.5.1.5//NONSGML v1.0//EN
CALSCALE:GREGORIAN
METHOD:PUBLISH
X-WR-CALNAME:KARS
X-ORIGINAL-URL:https://kars.or.id
X-WR-CALDESC:Events for KARS
REFRESH-INTERVAL;VALUE=DURATION:PT1H
X-Robots-Tag:noindex
X-PUBLISHED-TTL:PT1H
BEGIN:VTIMEZONE
TZID:Asia/Krasnoyarsk
BEGIN:STANDARD
TZOFFSETFROM:+0700
TZOFFSETTO:+0700
TZNAME:+07
DTSTART:20210101T000000
END:STANDARD
END:VTIMEZONE
BEGIN:VEVENT
DTSTART;TZID=Asia/Krasnoyarsk:20210504T080000
DTEND;TZID=Asia/Krasnoyarsk:20210505T160000
DTSTAMP:20260424T172835
CREATED:20210428T050020Z
LAST-MODIFIED:20210428T050020Z
UID:2561-1620115200-1620230400@kars.or.id
SUMMARY:Kelas Online Asuhan Keperawatan
DESCRIPTION:Unduh Flyer\nDaftar Kelas Online\nTatacara Pendaftaran
URL:https://kars.or.id/event/kelas-online-asuhan-keperawatan/
LOCATION:Via ZOOM
CATEGORIES:training,workshop
ATTACH;FMTTYPE=image/png:https://kars.or.id/wp-content/uploads/2021/04/Flyer-Asuhan-Keperawatan-1.png
END:VEVENT
END:VCALENDAR