BEGIN:VCALENDAR
VERSION:2.0
PRODID:-//KARS - ECPv6.5.1.5//NONSGML v1.0//EN
CALSCALE:GREGORIAN
METHOD:PUBLISH
X-ORIGINAL-URL:https://kars.or.id
X-WR-CALDESC:Events for KARS
REFRESH-INTERVAL;VALUE=DURATION:PT1H
X-Robots-Tag:noindex
X-PUBLISHED-TTL:PT1H
BEGIN:VTIMEZONE
TZID:Asia/Krasnoyarsk
BEGIN:STANDARD
TZOFFSETFROM:+0700
TZOFFSETTO:+0700
TZNAME:+07
DTSTART:20210101T000000
END:STANDARD
END:VTIMEZONE
BEGIN:VEVENT
DTSTART;TZID=Asia/Krasnoyarsk:20210601T080000
DTEND;TZID=Asia/Krasnoyarsk:20210602T150000
DTSTAMP:20260424T160016
CREATED:20210521T034417Z
LAST-MODIFIED:20210521T034417Z
UID:2577-1622534400-1622646000@kars.or.id
SUMMARY:Kelas Online TKRS
DESCRIPTION:Unduh Flyer\nDaftar Kelas Online\nTatacara Pendaftaran
URL:https://kars.or.id/event/kelas-online-tkrs/
CATEGORIES:training,workshop
ATTACH;FMTTYPE=image/png:https://kars.or.id/wp-content/uploads/2021/05/Flyer-TKRS-1.png
END:VEVENT
END:VCALENDAR