BEGIN:VCALENDAR
VERSION:2.0
PRODID:-//KARS - ECPv6.5.1.5//NONSGML v1.0//EN
CALSCALE:GREGORIAN
METHOD:PUBLISH
X-WR-CALNAME:KARS
X-ORIGINAL-URL:https://kars.or.id
X-WR-CALDESC:Events for KARS
REFRESH-INTERVAL;VALUE=DURATION:PT1H
X-Robots-Tag:noindex
X-PUBLISHED-TTL:PT1H
BEGIN:VTIMEZONE
TZID:Asia/Krasnoyarsk
BEGIN:STANDARD
TZOFFSETFROM:+0700
TZOFFSETTO:+0700
TZNAME:+07
DTSTART:20210101T000000
END:STANDARD
END:VTIMEZONE
BEGIN:VEVENT
DTSTART;TZID=Asia/Krasnoyarsk:20210914T080000
DTEND;TZID=Asia/Krasnoyarsk:20210915T160000
DTSTAMP:20260420T150716
CREATED:20210830T063407Z
LAST-MODIFIED:20210830T063407Z
UID:2699-1631606400-1631721600@kars.or.id
SUMMARY:Kelas Online Implementasi Budaya Keselamatan Rumah Sakit
DESCRIPTION:Informasi selengkapnya\nUnduh Edaran\, Flyer dan Jadwal Acara\nDaftar Kelas Online\nTatacara Pendaftaran
URL:https://kars.or.id/event/kelas-online-implementasi-budaya-keselamatan-rumah-sakit/
CATEGORIES:training,workshop
ATTACH;FMTTYPE=image/png:https://kars.or.id/wp-content/uploads/2021/08/Flyer-Budaya-keselamatan-1.png
END:VEVENT
END:VCALENDAR