BEGIN:VCALENDAR
VERSION:2.0
PRODID:-//KARS - ECPv6.5.1.5//NONSGML v1.0//EN
CALSCALE:GREGORIAN
METHOD:PUBLISH
X-ORIGINAL-URL:https://kars.or.id
X-WR-CALDESC:Events for KARS
REFRESH-INTERVAL;VALUE=DURATION:PT1H
X-Robots-Tag:noindex
X-PUBLISHED-TTL:PT1H
BEGIN:VTIMEZONE
TZID:Asia/Krasnoyarsk
BEGIN:STANDARD
TZOFFSETFROM:+0700
TZOFFSETTO:+0700
TZNAME:+07
DTSTART:20210101T000000
END:STANDARD
END:VTIMEZONE
BEGIN:VEVENT
DTSTART;TZID=Asia/Krasnoyarsk:20211018T080000
DTEND;TZID=Asia/Krasnoyarsk:20211019T160000
DTSTAMP:20260420T133022
CREATED:20211007T084326Z
LAST-MODIFIED:20211007T084326Z
UID:2724-1634544000-1634659200@kars.or.id
SUMMARY:Kelas Online Implementasi Standar ARK\, AP\, PAP\, PAB Dalam Mendukung Pelayanan Berfokus Pada Pasien
DESCRIPTION:Informasi selengkapnya\nUnduh Edaran\, FLyer dan Jadwal Acara\nDaftar Kelas Online\nTatacara Pendaftaran
URL:https://kars.or.id/event/kelas-online-implementasi-standar-ark-ap-pap-pab-dalam-mendukung-pelayanan-berfokus-pada-pasien/
LOCATION:Via ZOOM
CATEGORIES:training,workshop
ATTACH;FMTTYPE=image/jpeg:https://kars.or.id/wp-content/uploads/2021/10/flyer-ARK-okt-21.jpeg
END:VEVENT
END:VCALENDAR