BEGIN:VCALENDAR
VERSION:2.0
PRODID:-//KARS - ECPv6.5.1.5//NONSGML v1.0//EN
CALSCALE:GREGORIAN
METHOD:PUBLISH
X-ORIGINAL-URL:https://kars.or.id
X-WR-CALDESC:Events for KARS
REFRESH-INTERVAL;VALUE=DURATION:PT1H
X-Robots-Tag:noindex
X-PUBLISHED-TTL:PT1H
BEGIN:VTIMEZONE
TZID:Asia/Krasnoyarsk
BEGIN:STANDARD
TZOFFSETFROM:+0700
TZOFFSETTO:+0700
TZNAME:+07
DTSTART:20220101T000000
END:STANDARD
END:VTIMEZONE
BEGIN:VEVENT
DTSTART;TZID=Asia/Krasnoyarsk:20220726T080000
DTEND;TZID=Asia/Krasnoyarsk:20220727T170000
DTSTAMP:20260420T010003
CREATED:20220720T032542Z
LAST-MODIFIED:20220720T032542Z
UID:3105-1658822400-1658941200@kars.or.id
SUMMARY:Kelas Online TKRS Sesuai STARKES
DESCRIPTION:Kelas Online Tata Kelola Rumah Sakit (TKRS) Sesuai\nStandar Akreditasi RS Kementerian Kesehatan R.I (STARKES)\nInformasi selengkapnya\nUnduh Edaran\, FLyer dan Jadwal Acara\nDaftar Kelas Online\nTatacara Pendaftaran
URL:https://kars.or.id/event/kelas-online-tkrs-sesuai-starkes/
CATEGORIES:training,workshop
ATTACH;FMTTYPE=image/png:https://kars.or.id/wp-content/uploads/2022/07/Flyer-TKRS-0722-2.png
END:VEVENT
END:VCALENDAR